BEGIN:VCALENDAR
VERSION:2.0
PRODID:-//Idaho Ad Agencies - ECPv6.15.20//NONSGML v1.0//EN
CALSCALE:GREGORIAN
METHOD:PUBLISH
X-WR-CALNAME:Idaho Ad Agencies
X-ORIGINAL-URL:https://www.idahoadagencies.com
X-WR-CALDESC:Events for Idaho Ad Agencies
REFRESH-INTERVAL;VALUE=DURATION:PT1H
X-Robots-Tag:noindex
X-PUBLISHED-TTL:PT1H
BEGIN:VTIMEZONE
TZID:America/Boise
BEGIN:DAYLIGHT
TZOFFSETFROM:-0700
TZOFFSETTO:-0600
TZNAME:MDT
DTSTART:20210314T090000
END:DAYLIGHT
BEGIN:STANDARD
TZOFFSETFROM:-0600
TZOFFSETTO:-0700
TZNAME:MST
DTSTART:20211107T080000
END:STANDARD
BEGIN:DAYLIGHT
TZOFFSETFROM:-0700
TZOFFSETTO:-0600
TZNAME:MDT
DTSTART:20220313T090000
END:DAYLIGHT
BEGIN:STANDARD
TZOFFSETFROM:-0600
TZOFFSETTO:-0700
TZNAME:MST
DTSTART:20221106T080000
END:STANDARD
BEGIN:DAYLIGHT
TZOFFSETFROM:-0700
TZOFFSETTO:-0600
TZNAME:MDT
DTSTART:20230312T090000
END:DAYLIGHT
BEGIN:STANDARD
TZOFFSETFROM:-0600
TZOFFSETTO:-0700
TZNAME:MST
DTSTART:20231105T080000
END:STANDARD
END:VTIMEZONE
BEGIN:VEVENT
DTSTART;VALUE=DATE:20220111
DTEND;VALUE=DATE:20220219
DTSTAMP:20260425T161458
CREATED:20220105T215810Z
LAST-MODIFIED:20220113T164048Z
UID:8043-1641859200-1645228799@www.idahoadagencies.com
SUMMARY:Rockie Awards - Call for Entries
DESCRIPTION:January 11th: Submission window opens \nJanuary 31st: Regular entry deadline \nFebruary 18th: Late entry deadline \nAdditional details to come. \nShare this:\n				Share on X (Opens in new window)\n				X\n			\n				Share on LinkedIn (Opens in new window)\n				LinkedIn\n			\n				Share on Facebook (Opens in new window)\n				Facebook\n			\n				Share on Reddit (Opens in new window)\n				Reddit\n			\n				Email a link to a friend (Opens in new window)\n				Email\n			More\n				Share on Tumblr (Opens in new window)\n				Tumblr\n			\n				Share on Pinterest (Opens in new window)\n				Pinterest
URL:https://www.idahoadagencies.com/event/rockie-awards-call-for-entries-2/
LOCATION:ID
CATEGORIES:Awards Show,Boise Advertising Federation,Idaho Advertising Federation
END:VEVENT
BEGIN:VEVENT
DTSTART;TZID=America/Boise:20220131T170000
DTEND;TZID=America/Boise:20220131T170000
DTSTAMP:20260425T161458
CREATED:20220105T233340Z
LAST-MODIFIED:20220113T164128Z
UID:8047-1643648400-1643648400@www.idahoadagencies.com
SUMMARY:Rockie Awards Entry Deadline
DESCRIPTION:Share this:\n				Share on X (Opens in new window)\n				X\n			\n				Share on LinkedIn (Opens in new window)\n				LinkedIn\n			\n				Share on Facebook (Opens in new window)\n				Facebook\n			\n				Share on Reddit (Opens in new window)\n				Reddit\n			\n				Email a link to a friend (Opens in new window)\n				Email\n			More\n				Share on Tumblr (Opens in new window)\n				Tumblr\n			\n				Share on Pinterest (Opens in new window)\n				Pinterest
URL:https://www.idahoadagencies.com/event/rockie-awards-entry-deadline/
LOCATION:ID
CATEGORIES:Awards Show,Boise Advertising Federation,Idaho Advertising Federation
END:VEVENT
END:VCALENDAR