BEGIN:VCALENDAR
VERSION:2.0
PRODID:-//Idaho Ad Agencies - ECPv6.15.20//NONSGML v1.0//EN
CALSCALE:GREGORIAN
METHOD:PUBLISH
X-WR-CALNAME:Idaho Ad Agencies
X-ORIGINAL-URL:https://www.idahoadagencies.com
X-WR-CALDESC:Events for Idaho Ad Agencies
REFRESH-INTERVAL;VALUE=DURATION:PT1H
X-Robots-Tag:noindex
X-PUBLISHED-TTL:PT1H
BEGIN:VTIMEZONE
TZID:America/Boise
BEGIN:DAYLIGHT
TZOFFSETFROM:-0700
TZOFFSETTO:-0600
TZNAME:MDT
DTSTART:20190310T090000
END:DAYLIGHT
BEGIN:STANDARD
TZOFFSETFROM:-0600
TZOFFSETTO:-0700
TZNAME:MST
DTSTART:20191103T080000
END:STANDARD
BEGIN:DAYLIGHT
TZOFFSETFROM:-0700
TZOFFSETTO:-0600
TZNAME:MDT
DTSTART:20200308T090000
END:DAYLIGHT
BEGIN:STANDARD
TZOFFSETFROM:-0600
TZOFFSETTO:-0700
TZNAME:MST
DTSTART:20201101T080000
END:STANDARD
BEGIN:DAYLIGHT
TZOFFSETFROM:-0700
TZOFFSETTO:-0600
TZNAME:MDT
DTSTART:20210314T090000
END:DAYLIGHT
BEGIN:STANDARD
TZOFFSETFROM:-0600
TZOFFSETTO:-0700
TZNAME:MST
DTSTART:20211107T080000
END:STANDARD
END:VTIMEZONE
BEGIN:VEVENT
DTSTART;TZID=America/Boise:20200306T193000
DTEND;TZID=America/Boise:20200306T210000
DTSTAMP:20260422T073143
CREATED:20200218T210757Z
LAST-MODIFIED:20200218T210757Z
UID:7436-1583523000-1583528400@www.idahoadagencies.com
SUMMARY:Idaho Falls Advertising Federation 2020 Gem Awards
DESCRIPTION:From our friends at the Idaho Falls Advertising Federation: \n  \n \nCome and spend a night at the museum with us and find out who the survivors are from 2020. \nWe would like to invite you to this spectacular once a year event where we see the many talents that our fellow creatives in South East Idaho have created in 2019. It is time to honor the hard work that they have put forth and show our appreciation for what they do. Come and join us for dinner\, networking and a ceremony where we will announce who survived this year’s competition. \nShare this:\n				Share on X (Opens in new window)\n				X\n			\n				Share on LinkedIn (Opens in new window)\n				LinkedIn\n			\n				Share on Facebook (Opens in new window)\n				Facebook\n			\n				Share on Reddit (Opens in new window)\n				Reddit\n			\n				Email a link to a friend (Opens in new window)\n				Email\n			More\n				Share on Tumblr (Opens in new window)\n				Tumblr\n			\n				Share on Pinterest (Opens in new window)\n				Pinterest
URL:https://www.idahoadagencies.com/event/idaho-falls-advertising-federation-2020-gem-awards/
LOCATION:Museum of Idaho\, 200 N Eastern Ave\, Idaho Falls\, ID\, 83402\, United States
CATEGORIES:Awards Show,Idaho Falls Advertising Federation
END:VEVENT
END:VCALENDAR