BEGIN:VCALENDAR
VERSION:2.0
PRODID:-//Idaho Ad Agencies - ECPv6.15.20//NONSGML v1.0//EN
CALSCALE:GREGORIAN
METHOD:PUBLISH
X-ORIGINAL-URL:https://www.idahoadagencies.com
X-WR-CALDESC:Events for Idaho Ad Agencies
REFRESH-INTERVAL;VALUE=DURATION:PT1H
X-Robots-Tag:noindex
X-PUBLISHED-TTL:PT1H
BEGIN:VTIMEZONE
TZID:America/Boise
BEGIN:DAYLIGHT
TZOFFSETFROM:-0700
TZOFFSETTO:-0600
TZNAME:MDT
DTSTART:20240310T090000
END:DAYLIGHT
BEGIN:STANDARD
TZOFFSETFROM:-0600
TZOFFSETTO:-0700
TZNAME:MST
DTSTART:20241103T080000
END:STANDARD
BEGIN:DAYLIGHT
TZOFFSETFROM:-0700
TZOFFSETTO:-0600
TZNAME:MDT
DTSTART:20250309T090000
END:DAYLIGHT
BEGIN:STANDARD
TZOFFSETFROM:-0600
TZOFFSETTO:-0700
TZNAME:MST
DTSTART:20251102T080000
END:STANDARD
BEGIN:DAYLIGHT
TZOFFSETFROM:-0700
TZOFFSETTO:-0600
TZNAME:MDT
DTSTART:20260308T090000
END:DAYLIGHT
BEGIN:STANDARD
TZOFFSETFROM:-0600
TZOFFSETTO:-0700
TZNAME:MST
DTSTART:20261101T080000
END:STANDARD
END:VTIMEZONE
BEGIN:VEVENT
DTSTART;TZID=America/Boise:20250924T080000
DTEND;TZID=America/Boise:20250924T150000
DTSTAMP:20260421T134743
CREATED:20250813T170825Z
LAST-MODIFIED:20250813T170825Z
UID:8465-1758700800-1758726000@www.idahoadagencies.com
SUMMARY:2025 Legends of Advertising Golf Tournament
DESCRIPTION:From the Boise Advertising Federation: \n \nIt’s Not a Day Off. It’s a Sanctioned Golf Outing. \nIt’s that time of year — when skipping work to play golf isn’t just allowed\, it’s encouraged (and maybe even paid for by your boss). The Legends of Advertising Golf Tournament is your officially sanctioned day on the course with fellow creatives\, marketers\, media pros\, and maybe even the client. We’ll raise a toast to the icons of Idaho advertising and raise funds for the students coming up next. Whether you’re out to win or just working on your short game\, it’s always a good day to be “OOO.” \n🏌️‍♀️ New to Golf? No Problem. \nThis tournament is a scramble format — which means you play as a team and always take the best shot from your group. You don’t have to be good at golf (or even average). As long as one person in your group can hit the ball straight once in a while\, you’re in the game. It’s fun\, relaxed\, and designed for maximum laughs and minimal pressure. \n⏰ Event Timeline \nHere’s how the day’s going to play out (roughly — we’re still on golf time): \nRegistration Opens: 8:00 AM \nShotgun Start: 9:00 AM sharp \nLunch BBQ: ~1:45 PM (depends on your pace of play — fast or fun) \nAwards & Raffle Winners: Around 2:00–3:00 PM (once everyone’s settled in with a plate) \n💰 Registration Pricing \nEntry includes 18-holes of golf\, post-tournament BBQ\, and the chance to buy your way to a better score with add-ons like mulligans\, grenades\, and feet of string. (Hey\, it’s for the students.) \nFoursome: \nBAF Members: $391\nNon-members: $460 \nPair: \nBAF Members: $212.50\nNon-members: $250 \nShare this:\n				Share on X (Opens in new window)\n				X\n			\n				Share on LinkedIn (Opens in new window)\n				LinkedIn\n			\n				Share on Facebook (Opens in new window)\n				Facebook\n			\n				Share on Reddit (Opens in new window)\n				Reddit\n			\n				Email a link to a friend (Opens in new window)\n				Email\n			More\n				Share on Tumblr (Opens in new window)\n				Tumblr\n			\n				Share on Pinterest (Opens in new window)\n				Pinterest
URL:https://www.idahoadagencies.com/event/2025-legends-of-advertising-golf-tournament/
LOCATION:Eagle Hills Golf Course\, 605 N Edgewood LnEagle\, Eagle\, ID\, 83616\, United States
CATEGORIES:Boise Advertising Federation
END:VEVENT
END:VCALENDAR