BEGIN:VCALENDAR
VERSION:2.0
PRODID:-//Idaho Ad Agencies - ECPv6.15.20//NONSGML v1.0//EN
CALSCALE:GREGORIAN
METHOD:PUBLISH
X-WR-CALNAME:Idaho Ad Agencies
X-ORIGINAL-URL:https://www.idahoadagencies.com
X-WR-CALDESC:Events for Idaho Ad Agencies
REFRESH-INTERVAL;VALUE=DURATION:PT1H
X-Robots-Tag:noindex
X-PUBLISHED-TTL:PT1H
BEGIN:VTIMEZONE
TZID:America/Boise
BEGIN:DAYLIGHT
TZOFFSETFROM:-0700
TZOFFSETTO:-0600
TZNAME:MDT
DTSTART:20170312T090000
END:DAYLIGHT
BEGIN:STANDARD
TZOFFSETFROM:-0600
TZOFFSETTO:-0700
TZNAME:MST
DTSTART:20171105T080000
END:STANDARD
BEGIN:DAYLIGHT
TZOFFSETFROM:-0700
TZOFFSETTO:-0600
TZNAME:MDT
DTSTART:20180311T090000
END:DAYLIGHT
BEGIN:STANDARD
TZOFFSETFROM:-0600
TZOFFSETTO:-0700
TZNAME:MST
DTSTART:20181104T080000
END:STANDARD
BEGIN:DAYLIGHT
TZOFFSETFROM:-0700
TZOFFSETTO:-0600
TZNAME:MDT
DTSTART:20190310T090000
END:DAYLIGHT
BEGIN:STANDARD
TZOFFSETFROM:-0600
TZOFFSETTO:-0700
TZNAME:MST
DTSTART:20191103T080000
END:STANDARD
END:VTIMEZONE
BEGIN:VEVENT
DTSTART;TZID=America/Boise:20180322T173000
DTEND;TZID=America/Boise:20180322T190000
DTSTAMP:20260425T153912
CREATED:20180321T135743Z
LAST-MODIFIED:20180321T135743Z
UID:6730-1521739800-1521745200@www.idahoadagencies.com
SUMMARY:The Future of Music in Advertising & Media
DESCRIPTION:There isn’t a singular way to excel within the world of media–it’s a vast\, ever-changing landscape where modern technology heavily influences campaigns and successful marketing outreach. What does this mean for agency creatives and musicians? And how does this affect the creation and application of music? \nOur panel of creative agency insiders\, artists\, and music licensing experts will help us navigate through the over-saturated world of media\, while discussing music’s role in emerging and trending channels on the horizon. \nABOUT OUR PANELISTS:\nRob Dennler – Marmoset:\nDennler is the Senior Creative Director at Marmoset\, where he works closely with our Original Music Team to create customized songs for filmmakers and creatives. His vast knowledge and appreciation for all genres\, led him to work with artists like Built to Spill\, A Fine Frenzy\, fun. and Sheryl Crow. When not at Marmoset\, you can find Rob developing artists for indie label\, Hey Amigo! Recording Co.\, which he co-owns with Marmoset’s Eric Nordby. \nKaty Davidson – Dear Nora:\nDavidson has been composing\, recording\, and performing for nearly twenty years. Their music represents a spectrum of styles encompassing classic rock\, experimental music\, ethereal pop\, new age\, punk\, and R&B. Davidson writes lyrics with layered meanings that contemplate the vast realms and intersections of wilderness\, humanity\, morality\, technology\, late capitalism\, and love. \nJocelyn Brown – Leo Burnett:\nBrown currently works as the Senior Music Producer for Leo Burnett\, and is a music supervisor\, producer\, DJ\, musician\, writer and conduit. She has worked for independent record labels\, music production houses and advertising agencies\, and has recently contributed written and compiled works for Impose and Rookie\, and serves as a licensing consultant for International Anthem Recording Company. Outside of agency life\, she is also working as one of two music supervisors on the unscripted series America to Me. \nJoe Quatrone – Mitchell+Palmer:\nDad\, drummer\, writer\, film buff\, typophile\, and U2 aficionado\, Joe believes the best ideas come with time and tenacity. Quatrone has been in advertising since Tommy Lee’s upside down drum-cage concussion mishap in New Haven\, Connecticut. His work has been recognized by Communication Arts\, AdWeek\, Print Magazine\, D&AD\, Luerzers Archive\, and garnered national gold Addys and 8 Best of Show Addy/Rockie Awards. \nShare this:\n				Share on X (Opens in new window)\n				X\n			\n				Share on LinkedIn (Opens in new window)\n				LinkedIn\n			\n				Share on Facebook (Opens in new window)\n				Facebook\n			\n				Share on Reddit (Opens in new window)\n				Reddit\n			\n				Email a link to a friend (Opens in new window)\n				Email\n			More\n				Share on Tumblr (Opens in new window)\n				Tumblr\n			\n				Share on Pinterest (Opens in new window)\n				Pinterest
URL:https://www.idahoadagencies.com/event/the-future-of-music-in-advertising-media/
CATEGORIES:Boise Advertising Federation
END:VEVENT
END:VCALENDAR