BEGIN:VCALENDAR
VERSION:2.0
PRODID:-//Idaho Ad Agencies - ECPv6.15.20//NONSGML v1.0//EN
CALSCALE:GREGORIAN
METHOD:PUBLISH
X-WR-CALNAME:Idaho Ad Agencies
X-ORIGINAL-URL:https://www.idahoadagencies.com
X-WR-CALDESC:Events for Idaho Ad Agencies
REFRESH-INTERVAL;VALUE=DURATION:PT1H
X-Robots-Tag:noindex
X-PUBLISHED-TTL:PT1H
BEGIN:VTIMEZONE
TZID:America/Boise
BEGIN:DAYLIGHT
TZOFFSETFROM:-0700
TZOFFSETTO:-0600
TZNAME:MDT
DTSTART:20160313T090000
END:DAYLIGHT
BEGIN:STANDARD
TZOFFSETFROM:-0600
TZOFFSETTO:-0700
TZNAME:MST
DTSTART:20161106T080000
END:STANDARD
BEGIN:DAYLIGHT
TZOFFSETFROM:-0700
TZOFFSETTO:-0600
TZNAME:MDT
DTSTART:20170312T090000
END:DAYLIGHT
BEGIN:STANDARD
TZOFFSETFROM:-0600
TZOFFSETTO:-0700
TZNAME:MST
DTSTART:20171105T080000
END:STANDARD
BEGIN:DAYLIGHT
TZOFFSETFROM:-0700
TZOFFSETTO:-0600
TZNAME:MDT
DTSTART:20180311T090000
END:DAYLIGHT
BEGIN:STANDARD
TZOFFSETFROM:-0600
TZOFFSETTO:-0700
TZNAME:MST
DTSTART:20181104T080000
END:STANDARD
END:VTIMEZONE
BEGIN:VEVENT
DTSTART;TZID=America/Boise:20170518T180000
DTEND;TZID=America/Boise:20170518T193000
DTSTAMP:20260422T194255
CREATED:20170505T203511Z
LAST-MODIFIED:20170505T203511Z
UID:6440-1495130400-1495135800@www.idahoadagencies.com
SUMMARY:An Evening With Russ Stoddard: How to Build a Socially Conscious Business
DESCRIPTION:From our friends at AIGA: \nRuss is the author of Rise Up\, a new book about how to build a socially conscious business. He is also the founder and president of Oliver Russell\, a public benefit corporation in Boise that builds brands for purpose-driven companies whose products\, services or business models benefit society. \nRuss is a leader in the Certified B Corporation community\, a new classification of companies that use the power of business to solve social and environmental issues. He has received many industry awards for creativity\, as well as for lifetime achievements in community service from the American Advertising Federation\, the YMCA\, and his alma mater\, the University of Puget Sound. \nHe lives here in beautiful Boise\, Idaho\, with his wife\, Sarah\, and their standard poodle\, Roux. \nYou can learn more on his website at russstoddard.com \nThis is a free event! \nShare this:\n				Share on X (Opens in new window)\n				X\n			\n				Share on LinkedIn (Opens in new window)\n				LinkedIn\n			\n				Share on Facebook (Opens in new window)\n				Facebook\n			\n				Share on Reddit (Opens in new window)\n				Reddit\n			\n				Email a link to a friend (Opens in new window)\n				Email\n			More\n				Share on Tumblr (Opens in new window)\n				Tumblr\n			\n				Share on Pinterest (Opens in new window)\n				Pinterest
URL:https://www.idahoadagencies.com/event/an-evening-with-russ-stoddard-how-to-build-a-socially-conscious-business/
LOCATION:US Bank Building\, 101 S. Capitol Blvd\, Second Floor\, Boise\, ID\, United States
CATEGORIES:AIGA Idaho
END:VEVENT
END:VCALENDAR