BEGIN:VCALENDAR
VERSION:2.0
PRODID:-//Idaho Ad Agencies - ECPv6.15.20//NONSGML v1.0//EN
CALSCALE:GREGORIAN
METHOD:PUBLISH
X-WR-CALNAME:Idaho Ad Agencies
X-ORIGINAL-URL:https://www.idahoadagencies.com
X-WR-CALDESC:Events for Idaho Ad Agencies
REFRESH-INTERVAL;VALUE=DURATION:PT1H
X-Robots-Tag:noindex
X-PUBLISHED-TTL:PT1H
BEGIN:VTIMEZONE
TZID:America/Boise
BEGIN:DAYLIGHT
TZOFFSETFROM:-0700
TZOFFSETTO:-0600
TZNAME:MDT
DTSTART:20240310T090000
END:DAYLIGHT
BEGIN:STANDARD
TZOFFSETFROM:-0600
TZOFFSETTO:-0700
TZNAME:MST
DTSTART:20241103T080000
END:STANDARD
BEGIN:DAYLIGHT
TZOFFSETFROM:-0700
TZOFFSETTO:-0600
TZNAME:MDT
DTSTART:20250309T090000
END:DAYLIGHT
BEGIN:STANDARD
TZOFFSETFROM:-0600
TZOFFSETTO:-0700
TZNAME:MST
DTSTART:20251102T080000
END:STANDARD
BEGIN:DAYLIGHT
TZOFFSETFROM:-0700
TZOFFSETTO:-0600
TZNAME:MDT
DTSTART:20260308T090000
END:DAYLIGHT
BEGIN:STANDARD
TZOFFSETFROM:-0600
TZOFFSETTO:-0700
TZNAME:MST
DTSTART:20261101T080000
END:STANDARD
END:VTIMEZONE
BEGIN:VEVENT
DTSTART;TZID=America/Boise:20250328T130000
DTEND;TZID=America/Boise:20250328T140000
DTSTAMP:20260425T174315
CREATED:20250316T152102Z
LAST-MODIFIED:20250316T152153Z
UID:8419-1743166800-1743170400@www.idahoadagencies.com
SUMMARY:BAF Event: Inclusive by Design: Rewriting the Rules of Tech Strategy
DESCRIPTION:From the Boise Advertising Federation: \n \nJoin Britt McClintock for a collaborative conversation about why embracing\, humanizing\, and centering the “people” in tech (especially those from underrepresented communities) will be crucial in the coming years. \nThey will touch on the importance of how building community can help us reimagine the cultural blueprint for accessibility\, justice\, and equity in the tech space. \nTickets\nSave $20 on a 2-day Hackfort pass with code “BAF.” Click here. \nShare this:\n				Share on X (Opens in new window)\n				X\n			\n				Share on LinkedIn (Opens in new window)\n				LinkedIn\n			\n				Share on Facebook (Opens in new window)\n				Facebook\n			\n				Share on Reddit (Opens in new window)\n				Reddit\n			\n				Email a link to a friend (Opens in new window)\n				Email\n			More\n				Share on Tumblr (Opens in new window)\n				Tumblr\n			\n				Share on Pinterest (Opens in new window)\n				Pinterest
URL:https://www.idahoadagencies.com/event/baf-event-inclusive-by-design-rewriting-the-rules-of-tech-strategy/
LOCATION:Boise Centre East\, 850 W Front St\, Boise\, ID\, 83702\, United States
CATEGORIES:Boise Advertising Federation
END:VEVENT
END:VCALENDAR